BEGIN:VCALENDAR
VERSION:2.0
PRODID:-//ChurchDev//Events//EN
CALSCALE:GREGORIAN
METHOD:PUBLISH
BEGIN:VEVENT
UID:3454-20260418@www.shepherd-valley.org
SUMMARY:Crafty Ladies
DTSTART:20260418T140000Z
DTEND:20260418T170000Z
DESCRIPTION:Are you interested in spending time with other ladies who share an interest in crafts? If so\, bring\\nyour project of choice (crochet\, knitting\, scrapbooking\, etc.) and join us at SOTV from 9 &#8211\; 12 p.m. in Room 21 to enjoy fellowship with other women as you work on your project.\\n\\nhttps://www.shepherd-valley.org/events/crafty-ladies/
LOCATION:3900 Ashworth Road West Des Moines\, Iowa 50265
URL:https://www.shepherd-valley.org/events/crafty-ladies/
DTSTAMP:20260419T211043Z
END:VEVENT
END:VCALENDAR
